BEGIN:VCALENDAR
VERSION:2.0
PRODID:-//rssny.org//NONSGML kigkonsult.se iCalcreator 2.30.10//
CALSCALE:GREGORIAN
METHOD:PUBLISH
UID:83e96fb4-3594-4f2b-b21c-0fc10c970322
X-WR-CALDESC:Join us for breakfast at the Center!
X-WR-RELCALID:935cf7dae60f209157fd8cae0f672693
X-WR-TIMEZONE:America/New_York
BEGIN:VTIMEZONE
TZID:America/New_York
BEGIN:STANDARD
TZNAME:EST
DTSTART:20221106T020000
TZOFFSETFROM:-0400
TZOFFSETTO:-0500
RDATE:20231105T020000
RDATE:20241103T020000
END:STANDARD
BEGIN:DAYLIGHT
TZNAME:EDT
DTSTART:20230312T020000
TZOFFSETFROM:-0500
TZOFFSETTO:-0400
RDATE:20240310T020000
END:DAYLIGHT
END:VTIMEZONE
BEGIN:VEVENT
UID:22bb2708-5ec6-40ea-a42a-c6e08fdbc770
DTSTAMP:20260425T193439Z
DESCRIPTION:Join us for breakfast at the Center!
DTSTART;TZID=America/New_York:20230712T093000
DTEND;TZID=America/New_York:20230712T103000
LOCATION:
SUMMARY:Breakfast Club (In Center)
END:VEVENT
END:VCALENDAR
