BEGIN:VCALENDAR
VERSION:2.0
PRODID:-//rssny.org//NONSGML kigkonsult.se iCalcreator 2.30.10//
CALSCALE:GREGORIAN
METHOD:PUBLISH
UID:68c63b25-454b-40a4-92f4-87d69337dabc
X-WR-CALDESC:
X-WR-RELCALID:990f3e8ca3cf14f6b0349b6493c19637
X-WR-TIMEZONE:America/New_York
BEGIN:VTIMEZONE
TZID:America/New_York
BEGIN:STANDARD
TZNAME:EST
DTSTART:20221106T020000
TZOFFSETFROM:-0400
TZOFFSETTO:-0500
RDATE:20231105T020000
RDATE:20241103T020000
END:STANDARD
BEGIN:DAYLIGHT
TZNAME:EDT
DTSTART:20230312T020000
TZOFFSETFROM:-0500
TZOFFSETTO:-0400
RDATE:20240310T020000
END:DAYLIGHT
END:VTIMEZONE
BEGIN:VEVENT
UID:3a8b703f-28ff-4117-9717-d5f6efa0db39
DTSTAMP:20260425T193130Z
DESCRIPTION:
DTSTART;TZID=America/New_York:20230710T120000
DTEND;TZID=America/New_York:20230710T130000
LOCATION:
SUMMARY:Lunch (In Center)
END:VEVENT
END:VCALENDAR
