BEGIN:VCALENDAR
VERSION:2.0
PRODID:-//rssny.org//NONSGML kigkonsult.se iCalcreator 2.30.10//
CALSCALE:GREGORIAN
METHOD:PUBLISH
UID:a9d897d7-30b1-4318-a999-50546867f67e
X-WR-CALDESC:To join call 718.884.5900 or email info@rssny.org
X-WR-RELCALID:f345daccb116c7fbb08efdc9af3033c1
X-WR-TIMEZONE:America/New_York
BEGIN:VTIMEZONE
TZID:America/New_York
BEGIN:STANDARD
TZNAME:EST
DTSTART:20221106T020000
TZOFFSETFROM:-0400
TZOFFSETTO:-0500
RDATE:20231105T020000
RDATE:20241103T020000
END:STANDARD
BEGIN:DAYLIGHT
TZNAME:EDT
DTSTART:20230312T020000
TZOFFSETFROM:-0500
TZOFFSETTO:-0400
RDATE:20240310T020000
END:DAYLIGHT
END:VTIMEZONE
BEGIN:VEVENT
UID:05d5bc03-2f04-482f-92b4-45260b87bb89
DTSTAMP:20260425T192945Z
DESCRIPTION:To join call 718.884.5900 or email info@rssny.org
DTSTART;TZID=America/New_York:20230705T130000
DTEND;TZID=America/New_York:20230705T140000
LOCATION:
SUMMARY:Caregiver Support Group
END:VEVENT
END:VCALENDAR
