BEGIN:VCALENDAR
VERSION:2.0
PRODID:-//rssny.org//NONSGML kigkonsult.se iCalcreator 2.30.10//
CALSCALE:GREGORIAN
METHOD:PUBLISH
UID:3259d9c1-0f85-4a57-be55-33a82b8c0b02
X-WR-CALDESC:Movie: Devotion
X-WR-RELCALID:9d99abd95695ea74bb608ab583c37abd
X-WR-TIMEZONE:America/New_York
BEGIN:VTIMEZONE
TZID:America/New_York
BEGIN:STANDARD
TZNAME:EST
DTSTART:20221106T020000
TZOFFSETFROM:-0400
TZOFFSETTO:-0500
RDATE:20231105T020000
RDATE:20241103T020000
END:STANDARD
BEGIN:DAYLIGHT
TZNAME:EDT
DTSTART:20230312T020000
TZOFFSETFROM:-0500
TZOFFSETTO:-0400
RDATE:20240310T020000
END:DAYLIGHT
END:VTIMEZONE
BEGIN:VEVENT
UID:4134923d-9cac-434d-9a2f-bc8b3ee967e8
DTSTAMP:20260425T193747Z
DESCRIPTION:Movie: Devotion
DTSTART;TZID=America/New_York:20230705T130000
DTEND;TZID=America/New_York:20230705T150000
LOCATION:
SUMMARY:Movies (In Center)
END:VEVENT
END:VCALENDAR
