BEGIN:VCALENDAR
VERSION:2.0
PRODID:-//rssny.org//NONSGML kigkonsult.se iCalcreator 2.30.10//
CALSCALE:GREGORIAN
METHOD:PUBLISH
UID:053b3b9d-516a-4032-a49c-eef521e4c371
X-WR-CALDESC:Open to any skill level.
X-WR-RELCALID:56898fc98a68c3286088bbaed00af96a
X-WR-TIMEZONE:America/New_York
BEGIN:VTIMEZONE
TZID:America/New_York
BEGIN:STANDARD
TZNAME:EST
DTSTART:20221106T020000
TZOFFSETFROM:-0400
TZOFFSETTO:-0500
RDATE:20231105T020000
RDATE:20241103T020000
END:STANDARD
BEGIN:DAYLIGHT
TZNAME:EDT
DTSTART:20230312T020000
TZOFFSETFROM:-0500
TZOFFSETTO:-0400
RDATE:20240310T020000
END:DAYLIGHT
END:VTIMEZONE
BEGIN:VEVENT
UID:6900bad8-a7d8-4f2a-8f9b-037bae7be3c7
DTSTAMP:20260425T193433Z
DESCRIPTION:Open to any skill level.
DTSTART;TZID=America/New_York:20230705T130000
DTEND;TZID=America/New_York:20230705T150000
LOCATION:
SUMMARY:IN PERSON Mahjongg
END:VEVENT
END:VCALENDAR
