BEGIN:VCALENDAR
VERSION:2.0
PRODID:-//rssny.org//NONSGML kigkonsult.se iCalcreator 2.30.10//
CALSCALE:GREGORIAN
METHOD:PUBLISH
UID:ad9a1430-ae64-49ef-a7e2-5c108822a64a
X-WR-CALDESC:Join us for breakfast at the Center!
X-WR-RELCALID:8f7517c6f9d7c8277c2b7665ce7e9eb8
X-WR-TIMEZONE:America/New_York
BEGIN:VTIMEZONE
TZID:America/New_York
BEGIN:STANDARD
TZNAME:EST
DTSTART:20221106T020000
TZOFFSETFROM:-0400
TZOFFSETTO:-0500
RDATE:20231105T020000
RDATE:20241103T020000
END:STANDARD
BEGIN:DAYLIGHT
TZNAME:EDT
DTSTART:20230312T020000
TZOFFSETFROM:-0500
TZOFFSETTO:-0400
RDATE:20240310T020000
END:DAYLIGHT
END:VTIMEZONE
BEGIN:VEVENT
UID:05a137ee-bd49-4201-b857-15f65ce585bc
DTSTAMP:20260426T000008Z
DESCRIPTION:Join us for breakfast at the Center!
DTSTART;TZID=America/New_York:20230705T093000
DTEND;TZID=America/New_York:20230705T103000
LOCATION:
SUMMARY:Breakfast Club (In Center)
END:VEVENT
END:VCALENDAR
