BEGIN:VCALENDAR
VERSION:2.0
PRODID:-//rssny.org//NONSGML kigkonsult.se iCalcreator 2.30.10//
CALSCALE:GREGORIAN
METHOD:PUBLISH
UID:480fda56-fc65-4fed-8799-d347a554ca12
X-WR-CALDESC:
X-WR-RELCALID:1abefbf404b3109f4e2c18d3bb90a32b
X-WR-TIMEZONE:America/New_York
BEGIN:VTIMEZONE
TZID:America/New_York
BEGIN:STANDARD
TZNAME:EST
DTSTART:20221106T020000
TZOFFSETFROM:-0400
TZOFFSETTO:-0500
RDATE:20231105T020000
RDATE:20241103T020000
END:STANDARD
BEGIN:DAYLIGHT
TZNAME:EDT
DTSTART:20230312T020000
TZOFFSETFROM:-0500
TZOFFSETTO:-0400
RDATE:20240310T020000
END:DAYLIGHT
END:VTIMEZONE
BEGIN:VEVENT
UID:33526d19-3c89-4ff9-aea0-a3e7758d610c
DTSTAMP:20260425T212418Z
DESCRIPTION:
DTSTART;TZID=America/New_York:20230629T100000
DTEND;TZID=America/New_York:20230629T120000
LOCATION:
SUMMARY:Jewelry Sale with Lowell
END:VEVENT
END:VCALENDAR
