BEGIN:VCALENDAR
VERSION:2.0
PRODID:-//rssny.org//NONSGML kigkonsult.se iCalcreator 2.30.10//
CALSCALE:GREGORIAN
METHOD:PUBLISH
UID:fd1908b2-4a80-4ae0-9684-5aaaede69240
X-WR-CALDESC:Open to any skill level.
X-WR-RELCALID:2e8859b309c8b6ae2b374848791b3a6b
X-WR-TIMEZONE:America/New_York
BEGIN:VTIMEZONE
TZID:America/New_York
BEGIN:STANDARD
TZNAME:EST
DTSTART:20221106T020000
TZOFFSETFROM:-0400
TZOFFSETTO:-0500
RDATE:20231105T020000
RDATE:20241103T020000
END:STANDARD
BEGIN:DAYLIGHT
TZNAME:EDT
DTSTART:20230312T020000
TZOFFSETFROM:-0500
TZOFFSETTO:-0400
RDATE:20240310T020000
END:DAYLIGHT
END:VTIMEZONE
BEGIN:VEVENT
UID:2bcc0787-2393-4b61-9da7-c6f2c62a62f7
DTSTAMP:20260425T212111Z
DESCRIPTION:Open to any skill level.
DTSTART;TZID=America/New_York:20230626T130000
DTEND;TZID=America/New_York:20230626T150000
LOCATION:
SUMMARY:IN PERSON Mahjongg
END:VEVENT
END:VCALENDAR
