BEGIN:VCALENDAR
VERSION:2.0
PRODID:-//rssny.org//NONSGML kigkonsult.se iCalcreator 2.30.10//
CALSCALE:GREGORIAN
METHOD:PUBLISH
UID:1955f902-105f-4f34-9b6f-072816f2d45a
X-WR-CALDESC:
X-WR-RELCALID:bd7f5bd03a0f058a1a056dca54bcddb0
X-WR-TIMEZONE:America/New_York
BEGIN:VTIMEZONE
TZID:America/New_York
BEGIN:STANDARD
TZNAME:EST
DTSTART:20221106T020000
TZOFFSETFROM:-0400
TZOFFSETTO:-0500
RDATE:20231105T020000
RDATE:20241103T020000
END:STANDARD
BEGIN:DAYLIGHT
TZNAME:EDT
DTSTART:20230312T020000
TZOFFSETFROM:-0500
TZOFFSETTO:-0400
RDATE:20240310T020000
END:DAYLIGHT
END:VTIMEZONE
BEGIN:VEVENT
UID:579b350e-5990-42e6-9feb-9528f54b39e9
DTSTAMP:20260425T211944Z
DESCRIPTION:
DTSTART;TZID=America/New_York:20230621T130000
DTEND;TZID=America/New_York:20230621T140000
LOCATION:
SUMMARY:New Class!  Yiddish through Traditions with Judge First
END:VEVENT
END:VCALENDAR
