BEGIN:VCALENDAR
VERSION:2.0
PRODID:-//rssny.org//NONSGML kigkonsult.se iCalcreator 2.30.10//
CALSCALE:GREGORIAN
METHOD:PUBLISH
UID:bdc43fb0-f85d-4544-ae9f-5498279938d7
X-WR-CALDESC:Movie:  Air
X-WR-RELCALID:3e7662374c02f0d1df505deb6a6c8ce5
X-WR-TIMEZONE:America/New_York
BEGIN:VTIMEZONE
TZID:America/New_York
BEGIN:STANDARD
TZNAME:EST
DTSTART:20221106T020000
TZOFFSETFROM:-0400
TZOFFSETTO:-0500
RDATE:20231105T020000
RDATE:20241103T020000
END:STANDARD
BEGIN:DAYLIGHT
TZNAME:EDT
DTSTART:20230312T020000
TZOFFSETFROM:-0500
TZOFFSETTO:-0400
RDATE:20240310T020000
END:DAYLIGHT
END:VTIMEZONE
BEGIN:VEVENT
UID:52a4619e-e320-4190-809d-daaf60dff283
DTSTAMP:20260425T212236Z
DESCRIPTION:Movie:  Air
DTSTART;TZID=America/New_York:20230621T130000
DTEND;TZID=America/New_York:20230621T150000
LOCATION:
SUMMARY:Movies (In Center)
END:VEVENT
END:VCALENDAR
