BEGIN:VCALENDAR
VERSION:2.0
PRODID:-//rssny.org//NONSGML kigkonsult.se iCalcreator 2.30.10//
CALSCALE:GREGORIAN
METHOD:PUBLISH
UID:ecd42895-1277-4d54-9d4a-a3296ae50e0b
X-WR-CALDESC:Open to any skill level.
X-WR-RELCALID:4f7c15851eb8846616d4652d0c7e8418
X-WR-TIMEZONE:America/New_York
BEGIN:VTIMEZONE
TZID:America/New_York
BEGIN:STANDARD
TZNAME:EST
DTSTART:20221106T020000
TZOFFSETFROM:-0400
TZOFFSETTO:-0500
RDATE:20231105T020000
RDATE:20241103T020000
END:STANDARD
BEGIN:DAYLIGHT
TZNAME:EDT
DTSTART:20230312T020000
TZOFFSETFROM:-0500
TZOFFSETTO:-0400
RDATE:20240310T020000
END:DAYLIGHT
END:VTIMEZONE
BEGIN:VEVENT
UID:6e15413a-348a-4edb-8f4e-a3fba653fd2c
DTSTAMP:20260425T211611Z
DESCRIPTION:Open to any skill level.
DTSTART;TZID=America/New_York:20230621T130000
DTEND;TZID=America/New_York:20230621T150000
LOCATION:
SUMMARY:IN PERSON Mahjongg
END:VEVENT
END:VCALENDAR
