BEGIN:VCALENDAR
VERSION:2.0
PRODID:-//rssny.org//NONSGML kigkonsult.se iCalcreator 2.30.10//
CALSCALE:GREGORIAN
METHOD:PUBLISH
UID:af96a795-debb-4681-abd5-627bd5e1924b
X-WR-CALDESC:We do mixed media collages with a weekly theme.  All supplies 
 are provided.  We welcome any level of experience. Come create wonderful a
 rt pieces with us!
X-WR-RELCALID:8217a9975864d46eb43eef83948b7518
X-WR-TIMEZONE:America/New_York
BEGIN:VTIMEZONE
TZID:America/New_York
BEGIN:STANDARD
TZNAME:EST
DTSTART:20221106T020000
TZOFFSETFROM:-0400
TZOFFSETTO:-0500
RDATE:20231105T020000
RDATE:20241103T020000
END:STANDARD
BEGIN:DAYLIGHT
TZNAME:EDT
DTSTART:20230312T020000
TZOFFSETFROM:-0500
TZOFFSETTO:-0400
RDATE:20240310T020000
END:DAYLIGHT
END:VTIMEZONE
BEGIN:VEVENT
UID:90a95d28-ca00-46fb-a551-28a01b9fc0ba
DTSTAMP:20260425T212530Z
DESCRIPTION:We do mixed media collages with a weekly theme.  All supplies a
 re provided.  We welcome any level of experience. Come create wonderful ar
 t pieces with us!
DTSTART;TZID=America/New_York:20230620T130000
DTEND;TZID=America/New_York:20230620T150000
LOCATION:
SUMMARY:Collage with Annelen (In-Person)
END:VEVENT
END:VCALENDAR
