BEGIN:VCALENDAR
VERSION:2.0
PRODID:-//rssny.org//NONSGML kigkonsult.se iCalcreator 2.30.10//
CALSCALE:GREGORIAN
METHOD:PUBLISH
UID:3955ddac-c2d9-45fa-92ee-d69dbf9af16e
X-WR-CALDESC:
X-WR-RELCALID:3eaf760f78ee30dc598cf454907028b0
X-WR-TIMEZONE:America/New_York
BEGIN:VTIMEZONE
TZID:America/New_York
BEGIN:STANDARD
TZNAME:EST
DTSTART:20221106T020000
TZOFFSETFROM:-0400
TZOFFSETTO:-0500
RDATE:20231105T020000
RDATE:20241103T020000
END:STANDARD
BEGIN:DAYLIGHT
TZNAME:EDT
DTSTART:20230312T020000
TZOFFSETFROM:-0500
TZOFFSETTO:-0400
RDATE:20240310T020000
END:DAYLIGHT
END:VTIMEZONE
BEGIN:VEVENT
UID:a84e2fb5-b164-48a7-80d9-b5676bc7e53d
DTSTAMP:20260425T211241Z
DESCRIPTION:
DTSTART;TZID=America/New_York:20230619T000000
DTEND;TZID=America/New_York:20230619T235900
LOCATION:
SUMMARY:Center Closed - NO CLASSES - JUNETEENTH
END:VEVENT
END:VCALENDAR
