BEGIN:VCALENDAR
VERSION:2.0
PRODID:-//rssny.org//NONSGML kigkonsult.se iCalcreator 2.30.10//
CALSCALE:GREGORIAN
METHOD:PUBLISH
UID:c0c9b06e-9717-4f4d-88a3-3809ae6723a7
X-WR-CALDESC:Register by calling 718.884.5900. You only need to register on
 ce and you will be registered for the series of classes.\n\nThis class is 
 in-person\nLevel: Intermediate \nYou must be pre-registered to join this c
 lass!\n\nThis is a 5-week hands on course for the Galaxy Tablet Training f
 or intermediates. Each class will start a foundation of technology skills 
 that will continue to grow as you attend each session.
X-WR-RELCALID:8d4d32d70b6a066b68a9c62561fe4233
X-WR-TIMEZONE:America/New_York
BEGIN:VTIMEZONE
TZID:America/New_York
BEGIN:STANDARD
TZNAME:EST
DTSTART:20221106T020000
TZOFFSETFROM:-0400
TZOFFSETTO:-0500
RDATE:20231105T020000
RDATE:20241103T020000
END:STANDARD
BEGIN:DAYLIGHT
TZNAME:EDT
DTSTART:20230312T020000
TZOFFSETFROM:-0500
TZOFFSETTO:-0400
RDATE:20240310T020000
END:DAYLIGHT
END:VTIMEZONE
BEGIN:VEVENT
UID:543f124e-3691-4e9c-ae9e-2a0dca6e6d2b
DTSTAMP:20260425T211418Z
DESCRIPTION:Register by calling 718.884.5900. You only need to register onc
 e and you will be registered for the series of classes.\n\nThis class is i
 n-person\nLevel: Intermediate \nYou must be pre-registered to join this cl
 ass!\n\nThis is a 5-week hands on course for the Galaxy Tablet Training fo
 r intermediates. Each class will start a foundation of technology skills t
 hat will continue to grow as you attend each session.
DTSTART;TZID=America/New_York:20230616T110000
DTEND;TZID=America/New_York:20230616T120000
LOCATION:
SUMMARY:Galaxy Tablet Class Intermediate: Public Transit Apps
END:VEVENT
END:VCALENDAR
