BEGIN:VCALENDAR
VERSION:2.0
PRODID:-//rssny.org//NONSGML kigkonsult.se iCalcreator 2.30.10//
CALSCALE:GREGORIAN
METHOD:PUBLISH
UID:3070ceb7-40ce-4fe7-8feb-c149f2efd60c
X-WR-CALDESC:Click Here to Register - https://rssny.org/class-forms/concert
 s-in-motion.html\n\nListen to wonderful Latin music led by professional mu
 sicians. Great way to head into the weekend!
X-WR-RELCALID:9ca86847a335c1e2d961ea1d90877fcd
X-WR-TIMEZONE:America/New_York
BEGIN:VTIMEZONE
TZID:America/New_York
BEGIN:STANDARD
TZNAME:EST
DTSTART:20221106T020000
TZOFFSETFROM:-0400
TZOFFSETTO:-0500
RDATE:20231105T020000
RDATE:20241103T020000
END:STANDARD
BEGIN:DAYLIGHT
TZNAME:EDT
DTSTART:20230312T020000
TZOFFSETFROM:-0500
TZOFFSETTO:-0400
RDATE:20240310T020000
END:DAYLIGHT
END:VTIMEZONE
BEGIN:VEVENT
UID:0356dfe7-8bb7-4aec-9a11-2f453fba8527
DTSTAMP:20260425T212722Z
DESCRIPTION:Click Here to Register - https://rssny.org/class-forms/concerts
 -in-motion.html\n\nListen to wonderful Latin music led by professional mus
 icians. Great way to head into the weekend!
DTSTART;TZID=America/New_York:20230615T120000
DTEND;TZID=America/New_York:20230615T130000
LOCATION:https://rssny.org/class-forms/concerts-in-motion.html
SUMMARY:Concerts in Motion: Latin Music (bilingual - NOT AN RSS PROGRAM)
END:VEVENT
END:VCALENDAR
