BEGIN:VCALENDAR
VERSION:2.0
PRODID:-//rssny.org//NONSGML kigkonsult.se iCalcreator 2.30.10//
CALSCALE:GREGORIAN
METHOD:PUBLISH
UID:d52a5953-5f50-4dee-94ae-4f4432b9b93e
X-WR-CALDESC:Open to any skill level.
X-WR-RELCALID:9a062655d9c9d3d7ea9d477fbabae6e3
X-WR-TIMEZONE:America/New_York
BEGIN:VTIMEZONE
TZID:America/New_York
BEGIN:STANDARD
TZNAME:EST
DTSTART:20221106T020000
TZOFFSETFROM:-0400
TZOFFSETTO:-0500
RDATE:20231105T020000
RDATE:20241103T020000
END:STANDARD
BEGIN:DAYLIGHT
TZNAME:EDT
DTSTART:20230312T020000
TZOFFSETFROM:-0500
TZOFFSETTO:-0400
RDATE:20240310T020000
END:DAYLIGHT
END:VTIMEZONE
BEGIN:VEVENT
UID:aa229a95-44c8-4c95-b2b2-76c5b36865e7
DTSTAMP:20260425T212343Z
DESCRIPTION:Open to any skill level.
DTSTART;TZID=America/New_York:20230614T130000
DTEND;TZID=America/New_York:20230614T150000
LOCATION:
SUMMARY:IN PERSON Mahjongg
END:VEVENT
END:VCALENDAR
