BEGIN:VCALENDAR
VERSION:2.0
PRODID:-//rssny.org//NONSGML kigkonsult.se iCalcreator 2.30.10//
CALSCALE:GREGORIAN
METHOD:PUBLISH
UID:784e4656-d4b7-4ca5-adc1-887664b5c7b2
X-WR-CALDESC:Reservations Required. Call 718.884.5900 to have your blood pr
 essure taken by the RSS nurse.
X-WR-RELCALID:35dccf6cea3f0b7beff8b19f0357d6e1
X-WR-TIMEZONE:America/New_York
BEGIN:VTIMEZONE
TZID:America/New_York
BEGIN:STANDARD
TZNAME:EST
DTSTART:20221106T020000
TZOFFSETFROM:-0400
TZOFFSETTO:-0500
RDATE:20231105T020000
RDATE:20241103T020000
END:STANDARD
BEGIN:DAYLIGHT
TZNAME:EDT
DTSTART:20230312T020000
TZOFFSETFROM:-0500
TZOFFSETTO:-0400
RDATE:20240310T020000
END:DAYLIGHT
END:VTIMEZONE
BEGIN:VEVENT
UID:aaa0454b-63de-4f16-802a-2572e023060e
DTSTAMP:20260425T212737Z
DESCRIPTION:Reservations Required. Call 718.884.5900 to have your blood pre
 ssure taken by the RSS nurse.
DTSTART;TZID=America/New_York:20230613T100000
DTEND;TZID=America/New_York:20230613T110000
LOCATION:Reservations Required. Call 718.884.5900
SUMMARY:Blood Pressure Taken with Petronella Phillips\, RN (IN CENTER)
END:VEVENT
END:VCALENDAR
