BEGIN:VCALENDAR
VERSION:2.0
PRODID:-//rssny.org//NONSGML kigkonsult.se iCalcreator 2.30.10//
CALSCALE:GREGORIAN
METHOD:PUBLISH
UID:c5afd184-5dd2-4c35-9c8a-4bf74d25b1be
X-WR-CALDESC:
X-WR-RELCALID:1b9b3d0e257babbf0b67cf08355f698c
X-WR-TIMEZONE:America/New_York
BEGIN:VTIMEZONE
TZID:America/New_York
BEGIN:STANDARD
TZNAME:EST
DTSTART:20221106T020000
TZOFFSETFROM:-0400
TZOFFSETTO:-0500
RDATE:20231105T020000
RDATE:20241103T020000
END:STANDARD
BEGIN:DAYLIGHT
TZNAME:EDT
DTSTART:20230312T020000
TZOFFSETFROM:-0500
TZOFFSETTO:-0400
RDATE:20240310T020000
END:DAYLIGHT
END:VTIMEZONE
BEGIN:VEVENT
UID:332bed3a-b926-4f4d-ae3a-3299229eca79
DTSTAMP:20260425T211534Z
DESCRIPTION:
DTSTART;TZID=America/New_York:20230608T130000
DTEND;TZID=America/New_York:20230608T140000
LOCATION:
SUMMARY:Chorus with Cheryl Warfield
END:VEVENT
END:VCALENDAR
