BEGIN:VCALENDAR
VERSION:2.0
PRODID:-//rssny.org//NONSGML kigkonsult.se iCalcreator 2.30.10//
CALSCALE:GREGORIAN
METHOD:PUBLISH
UID:665e097b-44f3-4618-966c-08eb2354ff3b
X-WR-CALDESC:
X-WR-RELCALID:10e4a2992485e2090388f22463f8b7cb
X-WR-TIMEZONE:America/New_York
BEGIN:VTIMEZONE
TZID:America/New_York
BEGIN:STANDARD
TZNAME:EST
DTSTART:20221106T020000
TZOFFSETFROM:-0400
TZOFFSETTO:-0500
RDATE:20231105T020000
RDATE:20241103T020000
END:STANDARD
BEGIN:DAYLIGHT
TZNAME:EDT
DTSTART:20230312T020000
TZOFFSETFROM:-0500
TZOFFSETTO:-0400
RDATE:20240310T020000
END:DAYLIGHT
END:VTIMEZONE
BEGIN:VEVENT
UID:09f9e066-44e2-41f4-b031-7464456ac1f1
DTSTAMP:20260425T212111Z
DESCRIPTION:
DTSTART;TZID=America/New_York:20230607T130000
DTEND;TZID=America/New_York:20230607T140000
LOCATION:
SUMMARY:New Class!  Yiddish through Traditions with Judge First
END:VEVENT
END:VCALENDAR
