BEGIN:VCALENDAR
VERSION:2.0
PRODID:-//rssny.org//NONSGML kigkonsult.se iCalcreator 2.30.10//
CALSCALE:GREGORIAN
METHOD:PUBLISH
UID:5cf254ff-18f7-46ff-b694-879824e3a27f
X-WR-CALDESC:Movie:  Prom
X-WR-RELCALID:59b0e04f01c8748289dbbce7e46edc79
X-WR-TIMEZONE:America/New_York
BEGIN:VTIMEZONE
TZID:America/New_York
BEGIN:STANDARD
TZNAME:EST
DTSTART:20221106T020000
TZOFFSETFROM:-0400
TZOFFSETTO:-0500
RDATE:20231105T020000
RDATE:20241103T020000
END:STANDARD
BEGIN:DAYLIGHT
TZNAME:EDT
DTSTART:20230312T020000
TZOFFSETFROM:-0500
TZOFFSETTO:-0400
RDATE:20240310T020000
END:DAYLIGHT
END:VTIMEZONE
BEGIN:VEVENT
UID:5a126b6f-11fd-428d-8bc5-135ebf91a53f
DTSTAMP:20260425T212634Z
DESCRIPTION:Movie:  Prom
DTSTART;TZID=America/New_York:20230607T130000
DTEND;TZID=America/New_York:20230607T150000
LOCATION:
SUMMARY:Movies (In Center)
END:VEVENT
END:VCALENDAR
