BEGIN:VCALENDAR
VERSION:2.0
PRODID:-//rssny.org//NONSGML kigkonsult.se iCalcreator 2.30.10//
CALSCALE:GREGORIAN
METHOD:PUBLISH
UID:3677e3ba-f924-4514-b4a2-6914e2e2841e
X-WR-CALDESC:
X-WR-RELCALID:452d53ae6c52e003976c4d90d94f1fb4
X-WR-TIMEZONE:America/New_York
BEGIN:VTIMEZONE
TZID:America/New_York
BEGIN:STANDARD
TZNAME:EST
DTSTART:20221106T020000
TZOFFSETFROM:-0400
TZOFFSETTO:-0500
RDATE:20231105T020000
RDATE:20241103T020000
END:STANDARD
BEGIN:DAYLIGHT
TZNAME:EDT
DTSTART:20230312T020000
TZOFFSETFROM:-0500
TZOFFSETTO:-0400
RDATE:20240310T020000
END:DAYLIGHT
END:VTIMEZONE
BEGIN:VEVENT
UID:178b87a1-e7dd-4911-b37b-b6c59c2fa2ee
DTSTAMP:20260425T212236Z
DESCRIPTION:
DTSTART;TZID=America/New_York:20230602T100000
DTEND;TZID=America/New_York:20230602T120000
LOCATION:No Registration Required
SUMMARY:Sculpture Studio (IN CENTER)
END:VEVENT
END:VCALENDAR
