BEGIN:VCALENDAR
VERSION:2.0
PRODID:-//rssny.org//NONSGML kigkonsult.se iCalcreator 2.30.10//
CALSCALE:GREGORIAN
METHOD:PUBLISH
UID:5b4a8b62-ac4f-426f-937b-4a54b1db9786
X-WR-CALDESC:CANCELLED FOR TODAY!\n\nREGISTER HERE - https://rssny.org/clas
 s-forms/get-fit-with-stuart.html\n\nGet tone and fit with Stuart\, our exe
 rcise expert. Good for you whatever your level of fitness. A general fitne
 ss class that can be done seated or standing. Try out this new class at RS
 S.
X-WR-RELCALID:c196089c986f26b41b47839e3d6e2289
X-WR-TIMEZONE:America/New_York
BEGIN:VTIMEZONE
TZID:America/New_York
BEGIN:STANDARD
TZNAME:EST
DTSTART:20221106T020000
TZOFFSETFROM:-0400
TZOFFSETTO:-0500
RDATE:20231105T020000
RDATE:20241103T020000
END:STANDARD
BEGIN:DAYLIGHT
TZNAME:EDT
DTSTART:20230312T020000
TZOFFSETFROM:-0500
TZOFFSETTO:-0400
RDATE:20240310T020000
END:DAYLIGHT
END:VTIMEZONE
BEGIN:VEVENT
UID:77d47f0f-f5ce-4d51-8bb3-6016893cb728
DTSTAMP:20260425T212721Z
DESCRIPTION:CANCELLED FOR TODAY!\n\nREGISTER HERE - https://rssny.org/class
 -forms/get-fit-with-stuart.html\n\nGet tone and fit with Stuart\, our exer
 cise expert. Good for you whatever your level of fitness. A general fitnes
 s class that can be done seated or standing. Try out this new class at RSS
 .
DTSTART;TZID=America/New_York:20230602T100000
DTEND;TZID=America/New_York:20230602T110000
LOCATION:https://rssny.org/class-forms/get-fit-with-stuart.html
SUMMARY:CANCELLD TODAY!  Get Fit with Stuart (ONLINE & IN CENTER)
END:VEVENT
END:VCALENDAR
