BEGIN:VCALENDAR
VERSION:2.0
PRODID:-//rssny.org//NONSGML kigkonsult.se iCalcreator 2.30.10//
CALSCALE:GREGORIAN
METHOD:PUBLISH
UID:edbb6963-aa30-434f-ac3a-a25289301b09
X-WR-CALDESC:Open to any skill level.
X-WR-RELCALID:59f68c070e90bf90930bee96a33efebd
X-WR-TIMEZONE:America/New_York
BEGIN:VTIMEZONE
TZID:America/New_York
BEGIN:STANDARD
TZNAME:EST
DTSTART:20221106T020000
TZOFFSETFROM:-0400
TZOFFSETTO:-0500
RDATE:20231105T020000
RDATE:20241103T020000
END:STANDARD
BEGIN:DAYLIGHT
TZNAME:EDT
DTSTART:20230312T020000
TZOFFSETFROM:-0500
TZOFFSETTO:-0400
RDATE:20240310T020000
END:DAYLIGHT
END:VTIMEZONE
BEGIN:VEVENT
UID:435ffab7-3946-45ea-8899-fb7aad7a52d5
DTSTAMP:20260425T232607Z
DESCRIPTION:Open to any skill level.
DTSTART;TZID=America/New_York:20230531T130000
DTEND;TZID=America/New_York:20230531T150000
LOCATION:
SUMMARY:IN PERSON Mahjongg
END:VEVENT
END:VCALENDAR
