BEGIN:VCALENDAR
VERSION:2.0
PRODID:-//rssny.org//NONSGML kigkonsult.se iCalcreator 2.30.10//
CALSCALE:GREGORIAN
METHOD:PUBLISH
UID:a57dde43-3c89-447c-8b98-a8c53149c427
X-WR-CALDESC:Call 718.884.5900 if you are interested in joining.
X-WR-RELCALID:43681d5c74bffe4f924a4cdaac98e5af
X-WR-TIMEZONE:America/New_York
BEGIN:VTIMEZONE
TZID:America/New_York
BEGIN:STANDARD
TZNAME:EST
DTSTART:20221106T020000
TZOFFSETFROM:-0400
TZOFFSETTO:-0500
RDATE:20231105T020000
RDATE:20241103T020000
END:STANDARD
BEGIN:DAYLIGHT
TZNAME:EDT
DTSTART:20230312T020000
TZOFFSETFROM:-0500
TZOFFSETTO:-0400
RDATE:20240310T020000
END:DAYLIGHT
END:VTIMEZONE
BEGIN:VEVENT
UID:05723318-b0b4-4624-92b4-9b913ee70f9a
DTSTAMP:20260425T232226Z
DESCRIPTION:Call 718.884.5900 if you are interested in joining.
DTSTART;TZID=America/New_York:20230529T100000
DTEND;TZID=America/New_York:20230529T110000
LOCATION:
SUMMARY:IN PERSON: Canasta
END:VEVENT
END:VCALENDAR
