BEGIN:VCALENDAR
VERSION:2.0
PRODID:-//rssny.org//NONSGML kigkonsult.se iCalcreator 2.30.10//
CALSCALE:GREGORIAN
METHOD:PUBLISH
UID:5c389287-8c61-4230-b90a-c5e5cd60efed
X-WR-CALDESC:Garden in the RSS Terrace. Enjoy the fresh air. Get your hands
  dirty planting herbs and vegetables\, and help us maintain a beautiful na
 tive pollinator garden to help save the planet one garden at a time!
X-WR-RELCALID:6c007ae1c044d5c0064545c3b8541e37
X-WR-TIMEZONE:America/New_York
BEGIN:VTIMEZONE
TZID:America/New_York
BEGIN:STANDARD
TZNAME:EST
DTSTART:20221106T020000
TZOFFSETFROM:-0400
TZOFFSETTO:-0500
RDATE:20231105T020000
RDATE:20241103T020000
END:STANDARD
BEGIN:DAYLIGHT
TZNAME:EDT
DTSTART:20230312T020000
TZOFFSETFROM:-0500
TZOFFSETTO:-0400
RDATE:20240310T020000
END:DAYLIGHT
END:VTIMEZONE
BEGIN:VEVENT
UID:7269d053-2521-4fee-8f48-8e2d4832f3a8
DTSTAMP:20260425T233123Z
DESCRIPTION:Garden in the RSS Terrace. Enjoy the fresh air. Get your hands 
 dirty planting herbs and vegetables\, and help us maintain a beautiful nat
 ive pollinator garden to help save the planet one garden at a time!
DTSTART;TZID=America/New_York:20230526T140000
DTEND;TZID=America/New_York:20230526T150000
LOCATION:
SUMMARY:Gardening on the RSS Terrace (In House)
END:VEVENT
END:VCALENDAR
