BEGIN:VCALENDAR
VERSION:2.0
PRODID:-//rssny.org//NONSGML kigkonsult.se iCalcreator 2.30.10//
CALSCALE:GREGORIAN
METHOD:PUBLISH
UID:77838228-b932-4253-90f0-997dc1cec2bf
X-WR-CALDESC:
X-WR-RELCALID:e057927a4db5f47786f259237dfd0c52
X-WR-TIMEZONE:America/New_York
BEGIN:VTIMEZONE
TZID:America/New_York
BEGIN:STANDARD
TZNAME:EST
DTSTART:20221106T020000
TZOFFSETFROM:-0400
TZOFFSETTO:-0500
RDATE:20231105T020000
RDATE:20241103T020000
END:STANDARD
BEGIN:DAYLIGHT
TZNAME:EDT
DTSTART:20230312T020000
TZOFFSETFROM:-0500
TZOFFSETTO:-0400
RDATE:20240310T020000
END:DAYLIGHT
END:VTIMEZONE
BEGIN:VEVENT
UID:a41607e8-a051-4eff-9142-d8a3b4515255
DTSTAMP:20260425T231629Z
DESCRIPTION:
DTSTART;TZID=America/New_York:20230525T130000
DTEND;TZID=America/New_York:20230525T140000
LOCATION:
SUMMARY:Chorus with Cheryl Warfield
END:VEVENT
END:VCALENDAR
