BEGIN:VCALENDAR
VERSION:2.0
PRODID:-//rssny.org//NONSGML kigkonsult.se iCalcreator 2.30.10//
CALSCALE:GREGORIAN
METHOD:PUBLISH
UID:13572f3c-8de4-4ab5-9523-c2aaf5a34508
X-WR-CALDESC:Click here to register - https://rssny.org/class-forms/concert
 s-in-motion.html\n\nSpend an enjoyable hour listening and learning about C
 hinese music with professional musicians from Concerts in Motion.
X-WR-RELCALID:9bc4fddace8e6c9afc99db6d3e13edde
X-WR-TIMEZONE:America/New_York
BEGIN:VTIMEZONE
TZID:America/New_York
BEGIN:STANDARD
TZNAME:EST
DTSTART:20221106T020000
TZOFFSETFROM:-0400
TZOFFSETTO:-0500
RDATE:20231105T020000
RDATE:20241103T020000
END:STANDARD
BEGIN:DAYLIGHT
TZNAME:EDT
DTSTART:20230312T020000
TZOFFSETFROM:-0500
TZOFFSETTO:-0400
RDATE:20240310T020000
END:DAYLIGHT
END:VTIMEZONE
BEGIN:VEVENT
UID:fa9bbfb4-6a2d-4b9f-a026-9a3d753ffcb2
DTSTAMP:20260425T232823Z
DESCRIPTION:Click here to register - https://rssny.org/class-forms/concerts
 -in-motion.html\n\nSpend an enjoyable hour listening and learning about Ch
 inese music with professional musicians from Concerts in Motion.
DTSTART;TZID=America/New_York:20230524T130000
DTEND;TZID=America/New_York:20230524T140000
LOCATION:https://rssny.org/class-forms/concerts-in-motion.html
SUMMARY:Concerts in Motion: Chinese
END:VEVENT
END:VCALENDAR
