BEGIN:VCALENDAR
VERSION:2.0
PRODID:-//rssny.org//NONSGML kigkonsult.se iCalcreator 2.30.10//
CALSCALE:GREGORIAN
METHOD:PUBLISH
UID:5b2cdab5-b146-4030-83b1-ce0285fe0383
X-WR-CALDESC:Click here to register - https://rssny.org/class-forms/concert
 s-in-motion.html\n\nSpend an enjoyable hour listening and learning about R
 ussian music with professional musicians from Concerts in Motion.
X-WR-RELCALID:43b66dd695867feb3a86dcff61a19ff6
X-WR-TIMEZONE:America/New_York
BEGIN:VTIMEZONE
TZID:America/New_York
BEGIN:STANDARD
TZNAME:EST
DTSTART:20221106T020000
TZOFFSETFROM:-0400
TZOFFSETTO:-0500
RDATE:20231105T020000
RDATE:20241103T020000
END:STANDARD
BEGIN:DAYLIGHT
TZNAME:EDT
DTSTART:20230312T020000
TZOFFSETFROM:-0500
TZOFFSETTO:-0400
RDATE:20240310T020000
END:DAYLIGHT
END:VTIMEZONE
BEGIN:VEVENT
UID:cbbf2943-b387-45b1-bff0-449debacfe1c
DTSTAMP:20260425T232653Z
DESCRIPTION:Click here to register - https://rssny.org/class-forms/concerts
 -in-motion.html\n\nSpend an enjoyable hour listening and learning about Ru
 ssian music with professional musicians from Concerts in Motion.
DTSTART;TZID=America/New_York:20230524T110000
DTEND;TZID=America/New_York:20230524T120000
LOCATION:https://rssny.org/class-forms/concerts-in-motion.html
SUMMARY:Concerts in Motion: Russian
END:VEVENT
END:VCALENDAR
