BEGIN:VCALENDAR
VERSION:2.0
PRODID:-//rssny.org//NONSGML kigkonsult.se iCalcreator 2.30.10//
CALSCALE:GREGORIAN
METHOD:PUBLISH
UID:11ffcebf-3d6f-480f-bf1b-618af8b73991
X-WR-CALDESC:Register here - https://rssny.org/class-forms/concerts-in-moti
 on.html\n\nListen to wonderful Motown music led by professional musicians.
  Great way to head into the weekend!
X-WR-RELCALID:5a775394117f6594ea7603aae17674bc
X-WR-TIMEZONE:America/New_York
BEGIN:VTIMEZONE
TZID:America/New_York
BEGIN:STANDARD
TZNAME:EST
DTSTART:20221106T020000
TZOFFSETFROM:-0400
TZOFFSETTO:-0500
RDATE:20231105T020000
RDATE:20241103T020000
END:STANDARD
BEGIN:DAYLIGHT
TZNAME:EDT
DTSTART:20230312T020000
TZOFFSETFROM:-0500
TZOFFSETTO:-0400
RDATE:20240310T020000
END:DAYLIGHT
END:VTIMEZONE
BEGIN:VEVENT
UID:fdee586e-8305-4a17-9f45-39ce42f49a3d
DTSTAMP:20260425T233008Z
DESCRIPTION:Register here - https://rssny.org/class-forms/concerts-in-motio
 n.html\n\nListen to wonderful Motown music led by professional musicians. 
 Great way to head into the weekend!
DTSTART;TZID=America/New_York:20230519T140000
DTEND;TZID=America/New_York:20230519T150000
LOCATION:https://rssny.org/class-forms/concerts-in-motion.html
SUMMARY:Concerts in Motion: Motown (ONLINE - This is not an RSS event)
END:VEVENT
END:VCALENDAR
