BEGIN:VCALENDAR
VERSION:2.0
PRODID:-//rssny.org//NONSGML kigkonsult.se iCalcreator 2.30.10//
CALSCALE:GREGORIAN
METHOD:PUBLISH
UID:50b5572c-b37d-42b9-a346-2d98c69263b8
X-WR-CALDESC:
X-WR-RELCALID:9b0cd421b7482c00646b903affd98906
X-WR-TIMEZONE:America/New_York
BEGIN:VTIMEZONE
TZID:America/New_York
BEGIN:STANDARD
TZNAME:EST
DTSTART:20221106T020000
TZOFFSETFROM:-0400
TZOFFSETTO:-0500
RDATE:20231105T020000
RDATE:20241103T020000
END:STANDARD
BEGIN:DAYLIGHT
TZNAME:EDT
DTSTART:20230312T020000
TZOFFSETFROM:-0500
TZOFFSETTO:-0400
RDATE:20240310T020000
END:DAYLIGHT
END:VTIMEZONE
BEGIN:VEVENT
UID:cd42427f-7f59-470b-8c19-e87809656328
DTSTAMP:20260425T233002Z
DESCRIPTION:
DTSTART;TZID=America/New_York:20230517T130000
DTEND;TZID=America/New_York:20230517T150000
LOCATION:
SUMMARY:Movies - Guilt Trip (In Center)
END:VEVENT
END:VCALENDAR
