BEGIN:VCALENDAR
VERSION:2.0
PRODID:-//rssny.org//NONSGML kigkonsult.se iCalcreator 2.30.10//
CALSCALE:GREGORIAN
METHOD:PUBLISH
UID:53512086-4400-4faf-a545-3d7d004cb92a
X-WR-CALDESC:To register: https://rssny.org/class-forms/lets-talk-vegetable
 s.html
X-WR-RELCALID:f8fd71d05fce3e434c568c4ce8a43f4a
X-WR-TIMEZONE:America/New_York
BEGIN:VTIMEZONE
TZID:America/New_York
BEGIN:STANDARD
TZNAME:EST
DTSTART:20221106T020000
TZOFFSETFROM:-0400
TZOFFSETTO:-0500
RDATE:20231105T020000
RDATE:20241103T020000
END:STANDARD
BEGIN:DAYLIGHT
TZNAME:EDT
DTSTART:20230312T020000
TZOFFSETFROM:-0500
TZOFFSETTO:-0400
RDATE:20240310T020000
END:DAYLIGHT
END:VTIMEZONE
BEGIN:VEVENT
UID:1eb22b2a-257a-4848-8ac6-6cd6e0ce0018
DTSTAMP:20260425T232823Z
DESCRIPTION:To register: https://rssny.org/class-forms/lets-talk-vegetables
 .html
DTSTART;TZID=America/New_York:20230516T150000
DTEND;TZID=America/New_York:20230516T160000
LOCATION:https://rssny.org/class-forms/lets-talk-vegetables.html
SUMMARY:Let's Talk Vegetables: Spinach and Fiddleheads (Hybrid)
END:VEVENT
END:VCALENDAR
