BEGIN:VCALENDAR
VERSION:2.0
PRODID:-//rssny.org//NONSGML kigkonsult.se iCalcreator 2.30.10//
CALSCALE:GREGORIAN
METHOD:PUBLISH
UID:124b62be-cc0e-4d83-bac6-e56ceca3b2bb
X-WR-CALDESC:Call 718.884.5900 if you are interested in joining.
X-WR-RELCALID:dd0609bff22d99e0ca427c147d90d12f
X-WR-TIMEZONE:America/New_York
BEGIN:VTIMEZONE
TZID:America/New_York
BEGIN:STANDARD
TZNAME:EST
DTSTART:20221106T020000
TZOFFSETFROM:-0400
TZOFFSETTO:-0500
RDATE:20231105T020000
RDATE:20241103T020000
END:STANDARD
BEGIN:DAYLIGHT
TZNAME:EDT
DTSTART:20230312T020000
TZOFFSETFROM:-0500
TZOFFSETTO:-0400
RDATE:20240310T020000
END:DAYLIGHT
END:VTIMEZONE
BEGIN:VEVENT
UID:028e6b64-5371-4a3a-9c59-adf5ec9f8667
DTSTAMP:20260425T232418Z
DESCRIPTION:Call 718.884.5900 if you are interested in joining.
DTSTART;TZID=America/New_York:20230515T100000
DTEND;TZID=America/New_York:20230515T110000
LOCATION:
SUMMARY:IN PERSON: Canasta
END:VEVENT
END:VCALENDAR
