BEGIN:VCALENDAR
VERSION:2.0
PRODID:-//rssny.org//NONSGML kigkonsult.se iCalcreator 2.30.10//
CALSCALE:GREGORIAN
METHOD:PUBLISH
UID:180c7a89-4fba-4991-abf4-85f6d4ae24ba
X-WR-CALDESC:To register: https://rssny.org/class-forms/healthy-cooking-and
 -nutrition-with-maudene.html\n     \nDiscover the delicious and nutritious
  world of superfoods. Join RSS Dietitian\, Maudene Nelson\, to learn how t
 o incorporate nutrient-dense foods into your diet and enjoy the benefits o
 f a healthier lifestyle.
X-WR-RELCALID:c22b9af5d39f6464f188a84186403ed0
X-WR-TIMEZONE:America/New_York
BEGIN:VTIMEZONE
TZID:America/New_York
BEGIN:STANDARD
TZNAME:EST
DTSTART:20221106T020000
TZOFFSETFROM:-0400
TZOFFSETTO:-0500
RDATE:20231105T020000
RDATE:20241103T020000
END:STANDARD
BEGIN:DAYLIGHT
TZNAME:EDT
DTSTART:20230312T020000
TZOFFSETFROM:-0500
TZOFFSETTO:-0400
RDATE:20240310T020000
END:DAYLIGHT
END:VTIMEZONE
BEGIN:VEVENT
UID:d75a3ec2-bf3d-45b3-b941-bdae987ee168
DTSTAMP:20260425T233002Z
DESCRIPTION:To register: https://rssny.org/class-forms/healthy-cooking-and-
 nutrition-with-maudene.html\n     \nDiscover the delicious and nutritious 
 world of superfoods. Join RSS Dietitian\, Maudene Nelson\, to learn how to
  incorporate nutrient-dense foods into your diet and enjoy the benefits of
  a healthier lifestyle.
DTSTART;TZID=America/New_York:20230512T130000
DTEND;TZID=America/New_York:20230512T140000
LOCATION:https://rssny.org/class-forms/healthy-cooking-and-nutrition-with-m
 audene.html
SUMMARY:How to Enjoy Nutrition Superfoods with Maudene (Hybrid)
END:VEVENT
END:VCALENDAR
