BEGIN:VCALENDAR
VERSION:2.0
PRODID:-//rssny.org//NONSGML kigkonsult.se iCalcreator 2.30.10//
CALSCALE:GREGORIAN
METHOD:PUBLISH
UID:d061c659-b050-4108-93c5-075acbd605c8
X-WR-CALDESC:
X-WR-RELCALID:f4b8608513a0095f99d809c746cf7e7c
X-WR-TIMEZONE:America/New_York
BEGIN:VTIMEZONE
TZID:America/New_York
BEGIN:STANDARD
TZNAME:EST
DTSTART:20221106T020000
TZOFFSETFROM:-0400
TZOFFSETTO:-0500
RDATE:20231105T020000
RDATE:20241103T020000
END:STANDARD
BEGIN:DAYLIGHT
TZNAME:EDT
DTSTART:20230312T020000
TZOFFSETFROM:-0500
TZOFFSETTO:-0400
RDATE:20240310T020000
END:DAYLIGHT
END:VTIMEZONE
BEGIN:VEVENT
UID:51540b4c-aa91-451f-9623-8844505d6aa4
DTSTAMP:20260425T232653Z
DESCRIPTION:
DTSTART;TZID=America/New_York:20230512T100000
DTEND;TZID=America/New_York:20230512T120000
LOCATION:No Registration Required
SUMMARY:Sculpture Studio (IN CENTER)
END:VEVENT
END:VCALENDAR
