BEGIN:VCALENDAR
VERSION:2.0
PRODID:-//rssny.org//NONSGML kigkonsult.se iCalcreator 2.30.10//
CALSCALE:GREGORIAN
METHOD:PUBLISH
UID:c78de723-81a4-4db1-b981-cea942cb671d
X-WR-CALDESC:Open to any skill level.
X-WR-RELCALID:22c528b5ad5ba20975c5b4b3e6a3cc2e
X-WR-TIMEZONE:America/New_York
BEGIN:VTIMEZONE
TZID:America/New_York
BEGIN:STANDARD
TZNAME:EST
DTSTART:20221106T020000
TZOFFSETFROM:-0400
TZOFFSETTO:-0500
RDATE:20231105T020000
RDATE:20241103T020000
END:STANDARD
BEGIN:DAYLIGHT
TZNAME:EDT
DTSTART:20230312T020000
TZOFFSETFROM:-0500
TZOFFSETTO:-0400
RDATE:20240310T020000
END:DAYLIGHT
END:VTIMEZONE
BEGIN:VEVENT
UID:69ea0713-951c-43d1-b53f-533f20cda718
DTSTAMP:20260425T232654Z
DESCRIPTION:Open to any skill level.
DTSTART;TZID=America/New_York:20230510T130000
DTEND;TZID=America/New_York:20230510T150000
LOCATION:
SUMMARY:IN PERSON Mahjongg
END:VEVENT
END:VCALENDAR
