BEGIN:VCALENDAR
VERSION:2.0
PRODID:-//rssny.org//NONSGML kigkonsult.se iCalcreator 2.30.10//
CALSCALE:GREGORIAN
METHOD:PUBLISH
UID:618b9597-44cd-421f-8b2f-b3d905a3afc8
X-WR-CALDESC:Join us for breakfast at the Center!
X-WR-RELCALID:5a221ac3374fe674a2733fe404a548cd
X-WR-TIMEZONE:America/New_York
BEGIN:VTIMEZONE
TZID:America/New_York
BEGIN:STANDARD
TZNAME:EST
DTSTART:20221106T020000
TZOFFSETFROM:-0400
TZOFFSETTO:-0500
RDATE:20231105T020000
RDATE:20241103T020000
END:STANDARD
BEGIN:DAYLIGHT
TZNAME:EDT
DTSTART:20230312T020000
TZOFFSETFROM:-0500
TZOFFSETTO:-0400
RDATE:20240310T020000
END:DAYLIGHT
END:VTIMEZONE
BEGIN:VEVENT
UID:d69ff9a8-273a-44c7-97a7-269fb099dd50
DTSTAMP:20260425T232418Z
DESCRIPTION:Join us for breakfast at the Center!
DTSTART;TZID=America/New_York:20230510T093000
DTEND;TZID=America/New_York:20230510T103000
LOCATION:
SUMMARY:Continental Breakfast (In Center)
END:VEVENT
END:VCALENDAR
