BEGIN:VCALENDAR
VERSION:2.0
PRODID:-//rssny.org//NONSGML kigkonsult.se iCalcreator 2.30.10//
CALSCALE:GREGORIAN
METHOD:PUBLISH
UID:34b93ccc-b0f9-4778-a900-51764c2afd6b
X-WR-CALDESC:Reservations Required. Call 718.884.5900 to have your blood pr
 essure taken by the RSS nurse.
X-WR-RELCALID:31cb9409d120c6ed4443c26af97abfbd
X-WR-TIMEZONE:America/New_York
BEGIN:VTIMEZONE
TZID:America/New_York
BEGIN:STANDARD
TZNAME:EST
DTSTART:20221106T020000
TZOFFSETFROM:-0400
TZOFFSETTO:-0500
RDATE:20231105T020000
RDATE:20241103T020000
END:STANDARD
BEGIN:DAYLIGHT
TZNAME:EDT
DTSTART:20230312T020000
TZOFFSETFROM:-0500
TZOFFSETTO:-0400
RDATE:20240310T020000
END:DAYLIGHT
END:VTIMEZONE
BEGIN:VEVENT
UID:4fe88dab-d567-4377-94dc-236ac8cccdb9
DTSTAMP:20260425T233007Z
DESCRIPTION:Reservations Required. Call 718.884.5900 to have your blood pre
 ssure taken by the RSS nurse.
DTSTART;TZID=America/New_York:20230509T100000
DTEND;TZID=America/New_York:20230509T110000
LOCATION:Reservations Required. Call 718.884.5900
SUMMARY:Blood Pressure Taken with Petronella Phillips\, RN (IN CENTER)
END:VEVENT
END:VCALENDAR
