BEGIN:VCALENDAR
VERSION:2.0
PRODID:-//rssny.org//NONSGML kigkonsult.se iCalcreator 2.30.10//
CALSCALE:GREGORIAN
METHOD:PUBLISH
UID:5826b659-2b9b-4a4f-b472-6ab10c3455c3
X-WR-CALDESC:Open to any skill level.
X-WR-RELCALID:a2ee1ff6b94f5985e03191ba08ecdfb6
X-WR-TIMEZONE:America/New_York
BEGIN:VTIMEZONE
TZID:America/New_York
BEGIN:STANDARD
TZNAME:EST
DTSTART:20221106T020000
TZOFFSETFROM:-0400
TZOFFSETTO:-0500
RDATE:20231105T020000
RDATE:20241103T020000
END:STANDARD
BEGIN:DAYLIGHT
TZNAME:EDT
DTSTART:20230312T020000
TZOFFSETFROM:-0500
TZOFFSETTO:-0400
RDATE:20240310T020000
END:DAYLIGHT
END:VTIMEZONE
BEGIN:VEVENT
UID:701b9f5d-c0f1-432c-ae0b-d9073d41eb81
DTSTAMP:20260425T232419Z
DESCRIPTION:Open to any skill level.
DTSTART;TZID=America/New_York:20230508T130000
DTEND;TZID=America/New_York:20230508T150000
LOCATION:
SUMMARY:IN PERSON Mahjongg
END:VEVENT
END:VCALENDAR
