BEGIN:VCALENDAR
VERSION:2.0
PRODID:-//rssny.org//NONSGML kigkonsult.se iCalcreator 2.30.10//
CALSCALE:GREGORIAN
METHOD:PUBLISH
UID:9550cd8d-b17f-4e82-bedd-a0748d5cc7e3
X-WR-CALDESC:If you are interested in joining call 718.884.5900 or send an 
 email to info@rssny.org
X-WR-RELCALID:9146b9afb04a842338d64e3667b535f1
X-WR-TIMEZONE:America/New_York
BEGIN:VTIMEZONE
TZID:America/New_York
BEGIN:STANDARD
TZNAME:EST
DTSTART:20221106T020000
TZOFFSETFROM:-0400
TZOFFSETTO:-0500
RDATE:20231105T020000
END:STANDARD
BEGIN:DAYLIGHT
TZNAME:EDT
DTSTART:20230312T020000
TZOFFSETFROM:-0500
TZOFFSETTO:-0400
RDATE:20240310T020000
END:DAYLIGHT
END:VTIMEZONE
BEGIN:VEVENT
UID:1e134126-7562-4c32-8165-d47fc03093c5
DTSTAMP:20260425T231228Z
DESCRIPTION:If you are interested in joining call 718.884.5900 or send an e
 mail to info@rssny.org
DTSTART;TZID=America/New_York:20230504T130000
DTEND;TZID=America/New_York:20230504T140000
LOCATION:
SUMMARY:Grief Support Group with Susan
END:VEVENT
END:VCALENDAR
