BEGIN:VCALENDAR
VERSION:2.0
PRODID:-//rssny.org//NONSGML kigkonsult.se iCalcreator 2.30.10//
CALSCALE:GREGORIAN
METHOD:PUBLISH
UID:4f1e8f24-788e-4ff8-bc80-cc03dc0743f8
X-WR-CALDESC:
X-WR-RELCALID:6aaded2292802ad784c4e16b8b0aeb8c
X-WR-TIMEZONE:America/New_York
BEGIN:VTIMEZONE
TZID:America/New_York
BEGIN:STANDARD
TZNAME:EST
DTSTART:20221106T020000
TZOFFSETFROM:-0400
TZOFFSETTO:-0500
RDATE:20231105T020000
END:STANDARD
BEGIN:DAYLIGHT
TZNAME:EDT
DTSTART:20230312T020000
TZOFFSETFROM:-0500
TZOFFSETTO:-0400
RDATE:20240310T020000
END:DAYLIGHT
END:VTIMEZONE
BEGIN:VEVENT
UID:ba1d3418-6bae-4225-9c5f-c217b43980f1
DTSTAMP:20260425T232816Z
DESCRIPTION:
DTSTART;TZID=America/New_York:20230504T140000
DTEND;TZID=America/New_York:20230504T150000
LOCATION:https://rssny.org/tai-chi-with-bill.html
SUMMARY:Tai Chi with Bill (ONLINE)
END:VEVENT
END:VCALENDAR
