BEGIN:VCALENDAR
VERSION:2.0
PRODID:-//rssny.org//NONSGML kigkonsult.se iCalcreator 2.30.10//
CALSCALE:GREGORIAN
METHOD:PUBLISH
UID:4b7ec9ce-da74-4608-b934-b956280985b5
X-WR-CALDESC:Love knitting? Want to learn? Join the RSS knitting group. Lim
 ited space so registration is important.
X-WR-RELCALID:5dde957a8012417e8324c2b00bb50a20
X-WR-TIMEZONE:America/New_York
BEGIN:VTIMEZONE
TZID:America/New_York
BEGIN:STANDARD
TZNAME:EST
DTSTART:20221106T020000
TZOFFSETFROM:-0400
TZOFFSETTO:-0500
RDATE:20231105T020000
END:STANDARD
BEGIN:DAYLIGHT
TZNAME:EDT
DTSTART:20230312T020000
TZOFFSETFROM:-0500
TZOFFSETTO:-0400
RDATE:20240310T020000
END:DAYLIGHT
END:VTIMEZONE
BEGIN:VEVENT
UID:bd264236-0c18-445b-a0a9-a22869fe8800
DTSTAMP:20260425T232828Z
DESCRIPTION:Love knitting? Want to learn? Join the RSS knitting group. Limi
 ted space so registration is important.
DTSTART;TZID=America/New_York:20230504T100000
DTEND;TZID=America/New_York:20230504T113000
LOCATION:
SUMMARY:IN PERSON: Knitting Group
END:VEVENT
END:VCALENDAR
