BEGIN:VCALENDAR
VERSION:2.0
PRODID:-//rssny.org//NONSGML kigkonsult.se iCalcreator 2.30.10//
CALSCALE:GREGORIAN
METHOD:PUBLISH
UID:ef363fff-1b4a-4378-9102-0816d17c5850
X-WR-CALDESC:This class is in the center.\nLevel: Beginner\n\nTake a blast 
 from the past as you explore  technological innovations in the home. In th
 is session\, you will view a presentation and learn how technology has cha
 nged our lives.\n\nThe session is led by Tabitha Rosa\, the RSS Tech Speci
 alist and Virtual Programs Coordinator.
X-WR-RELCALID:f48884d7f4eb4bdd607019f07cbedc7e
X-WR-TIMEZONE:America/New_York
BEGIN:VTIMEZONE
TZID:America/New_York
BEGIN:STANDARD
TZNAME:EST
DTSTART:20221106T020000
TZOFFSETFROM:-0400
TZOFFSETTO:-0500
RDATE:20231105T020000
END:STANDARD
BEGIN:DAYLIGHT
TZNAME:EDT
DTSTART:20230312T020000
TZOFFSETFROM:-0500
TZOFFSETTO:-0400
RDATE:20240310T020000
END:DAYLIGHT
END:VTIMEZONE
BEGIN:VEVENT
UID:46df2c94-6a51-4583-8808-8cc1453cb370
DTSTAMP:20260425T232749Z
DESCRIPTION:This class is in the center.\nLevel: Beginner\n\nTake a blast f
 rom the past as you explore  technological innovations in the home. In thi
 s session\, you will view a presentation and learn how technology has chan
 ged our lives.\n\nThe session is led by Tabitha Rosa\, the RSS Tech Specia
 list and Virtual Programs Coordinator.
DTSTART;TZID=America/New_York:20230502T110000
DTEND;TZID=America/New_York:20230502T120000
LOCATION:
SUMMARY:Tech How-To's: Home Tech - Then & Now (IN CENTER)
END:VEVENT
END:VCALENDAR
