BEGIN:VCALENDAR
VERSION:2.0
PRODID:-//rssny.org//NONSGML kigkonsult.se iCalcreator 2.30.10//
CALSCALE:GREGORIAN
METHOD:PUBLISH
UID:1715b38b-c304-4486-933f-ec4fee9637d8
X-WR-CALDESC:Call 718.884.5900 if you are interested in joining.
X-WR-RELCALID:abfe0de26cbaafa0e531f8ef25bd77e6
X-WR-TIMEZONE:America/New_York
BEGIN:VTIMEZONE
TZID:America/New_York
BEGIN:STANDARD
TZNAME:EST
DTSTART:20221106T020000
TZOFFSETFROM:-0400
TZOFFSETTO:-0500
RDATE:20231105T020000
END:STANDARD
BEGIN:DAYLIGHT
TZNAME:EDT
DTSTART:20230312T020000
TZOFFSETFROM:-0500
TZOFFSETTO:-0400
RDATE:20240310T020000
END:DAYLIGHT
END:VTIMEZONE
BEGIN:VEVENT
UID:730cc52e-42bd-46ae-b641-50e4ba1791b0
DTSTAMP:20260425T232254Z
DESCRIPTION:Call 718.884.5900 if you are interested in joining.
DTSTART;TZID=America/New_York:20230501T100000
DTEND;TZID=America/New_York:20230501T110000
LOCATION:
SUMMARY:IN PERSON: Canasta
END:VEVENT
END:VCALENDAR
