BEGIN:VCALENDAR
VERSION:2.0
PRODID:-//rssny.org//NONSGML kigkonsult.se iCalcreator 2.30.10//
CALSCALE:GREGORIAN
METHOD:PUBLISH
UID:2254efeb-fe2d-41cc-8b9b-6e08cd22cbc7
X-WR-CALDESC:\nTo Register - use this form https://rssny.org/selfcare-sunda
 ys.html\n\nAll Classes are Online\n\nNO Virtual Reiki today. \n\n\nChair C
 hi & Prana starts at 11 AM\nMeditation at 12\nVirtual Reiki & Sound Medita
 tion at 5\nIt is the same zoom link for both sessions.\n\n
X-WR-RELCALID:b8e64a79473be18282a11456e9baf8be
X-WR-TIMEZONE:America/New_York
BEGIN:VTIMEZONE
TZID:America/New_York
BEGIN:STANDARD
TZNAME:EST
DTSTART:20221106T020000
TZOFFSETFROM:-0400
TZOFFSETTO:-0500
RDATE:20231105T020000
END:STANDARD
BEGIN:DAYLIGHT
TZNAME:EDT
DTSTART:20230312T020000
TZOFFSETFROM:-0500
TZOFFSETTO:-0400
RDATE:20240310T020000
END:DAYLIGHT
END:VTIMEZONE
BEGIN:VEVENT
UID:ce92bbeb-66aa-4133-9d1c-002697d6a62b
DTSTAMP:20260426T023716Z
DESCRIPTION:\nTo Register - use this form https://rssny.org/selfcare-sunday
 s.html\n\nAll Classes are Online\n\nNO Virtual Reiki today. \n\n\nChair Ch
 i & Prana starts at 11 AM\nMeditation at 12\nVirtual Reiki & Sound Meditat
 ion at 5\nIt is the same zoom link for both sessions.\n\n
DTSTART;TZID=America/New_York:20230430T110000
DTEND;TZID=America/New_York:20230430T124500
LOCATION:https://rssny.org/selfcare-sundays.html
SUMMARY:Self-Care Sundays - Chair\, Chi & Prana with Melissa at 11\, Medita
 tion with Paula at 12. NO  VIrtual ReikI/Sound Meditation with Bosko TODAY
 (ALL ONLINE)
END:VEVENT
END:VCALENDAR
