BEGIN:VCALENDAR
VERSION:2.0
PRODID:-//rssny.org//NONSGML kigkonsult.se iCalcreator 2.30.10//
CALSCALE:GREGORIAN
METHOD:PUBLISH
UID:4727cb8d-a6c6-4f80-8aba-a7751ca01349
X-WR-CALDESC:
X-WR-RELCALID:28afb6721b4de185e6f532ba55652e65
X-WR-TIMEZONE:America/New_York
BEGIN:VTIMEZONE
TZID:America/New_York
BEGIN:STANDARD
TZNAME:EST
DTSTART:20221106T020000
TZOFFSETFROM:-0400
TZOFFSETTO:-0500
RDATE:20231105T020000
END:STANDARD
BEGIN:DAYLIGHT
TZNAME:EDT
DTSTART:20230312T020000
TZOFFSETFROM:-0500
TZOFFSETTO:-0400
RDATE:20240310T020000
END:DAYLIGHT
END:VTIMEZONE
BEGIN:VEVENT
UID:f60a5ff1-0fed-4b49-bcca-df643f31aff3
DTSTAMP:20260426T023612Z
DESCRIPTION:
DTSTART;TZID=America/New_York:20230429T010000
DTEND;TZID=America/New_York:20230429T020000
LOCATION:Call 718.884.5900 for details
SUMMARY:Trip to Wind Creek Casino (Must Purchase Ticket in Advance)
END:VEVENT
END:VCALENDAR
