BEGIN:VCALENDAR
VERSION:2.0
PRODID:-//rssny.org//NONSGML kigkonsult.se iCalcreator 2.30.10//
CALSCALE:GREGORIAN
METHOD:PUBLISH
UID:1ed9e229-154b-44ab-828b-5210f0267bfe
X-WR-CALDESC:
X-WR-RELCALID:79fc8f18dcb9145be9586a0aade24a56
X-WR-TIMEZONE:America/New_York
BEGIN:VTIMEZONE
TZID:America/New_York
BEGIN:STANDARD
TZNAME:EST
DTSTART:20221106T020000
TZOFFSETFROM:-0400
TZOFFSETTO:-0500
RDATE:20231105T020000
END:STANDARD
BEGIN:DAYLIGHT
TZNAME:EDT
DTSTART:20230312T020000
TZOFFSETFROM:-0500
TZOFFSETTO:-0400
RDATE:20240310T020000
END:DAYLIGHT
END:VTIMEZONE
BEGIN:VEVENT
UID:601e7ef0-35fc-42da-89f5-bb032a31b58e
DTSTAMP:20260426T023526Z
DESCRIPTION:
DTSTART;TZID=America/New_York:20230427T140000
DTEND;TZID=America/New_York:20230427T150000
LOCATION:https://rssny.org/tai-chi-with-bill.html
SUMMARY:Tai Chi with Bill (ONLINE)
END:VEVENT
END:VCALENDAR
