BEGIN:VCALENDAR
VERSION:2.0
PRODID:-//rssny.org//NONSGML kigkonsult.se iCalcreator 2.30.10//
CALSCALE:GREGORIAN
METHOD:PUBLISH
UID:70452da2-af9a-4718-ab24-cc2b9c0c2cf6
X-WR-CALDESC:Love knitting? Want to learn? Join the RSS knitting group. Lim
 ited space so registration is important.
X-WR-RELCALID:632fd930175ab3bb063ddd87dc1304dc
X-WR-TIMEZONE:America/New_York
BEGIN:VTIMEZONE
TZID:America/New_York
BEGIN:STANDARD
TZNAME:EST
DTSTART:20221106T020000
TZOFFSETFROM:-0400
TZOFFSETTO:-0500
RDATE:20231105T020000
END:STANDARD
BEGIN:DAYLIGHT
TZNAME:EDT
DTSTART:20230312T020000
TZOFFSETFROM:-0500
TZOFFSETTO:-0400
RDATE:20240310T020000
END:DAYLIGHT
END:VTIMEZONE
BEGIN:VEVENT
UID:c3a84e72-07ba-4b9c-9262-cd647c1941ba
DTSTAMP:20260426T023252Z
DESCRIPTION:Love knitting? Want to learn? Join the RSS knitting group. Limi
 ted space so registration is important.
DTSTART;TZID=America/New_York:20230427T100000
DTEND;TZID=America/New_York:20230427T113000
LOCATION:
SUMMARY:IN PERSON: Knitting Group
END:VEVENT
END:VCALENDAR
