BEGIN:VCALENDAR
VERSION:2.0
PRODID:-//rssny.org//NONSGML kigkonsult.se iCalcreator 2.30.10//
CALSCALE:GREGORIAN
METHOD:PUBLISH
UID:db25b4ad-111a-4559-a903-64ee9a774553
X-WR-CALDESC:
X-WR-RELCALID:183669c8b623055d67a4d7373880aeab
X-WR-TIMEZONE:America/New_York
BEGIN:VTIMEZONE
TZID:America/New_York
BEGIN:STANDARD
TZNAME:EST
DTSTART:20221106T020000
TZOFFSETFROM:-0400
TZOFFSETTO:-0500
RDATE:20231105T020000
END:STANDARD
BEGIN:DAYLIGHT
TZNAME:EDT
DTSTART:20230312T020000
TZOFFSETFROM:-0500
TZOFFSETTO:-0400
RDATE:20240310T020000
END:DAYLIGHT
END:VTIMEZONE
BEGIN:VEVENT
UID:c71836a7-32f4-46be-a6e9-14342bd475e4
DTSTAMP:20260426T023613Z
DESCRIPTION:
DTSTART;TZID=America/New_York:20230426T130000
DTEND;TZID=America/New_York:20230426T150000
LOCATION:
SUMMARY:Movies (In Center)
END:VEVENT
END:VCALENDAR
