BEGIN:VCALENDAR
VERSION:2.0
PRODID:-//rssny.org//NONSGML kigkonsult.se iCalcreator 2.30.10//
CALSCALE:GREGORIAN
METHOD:PUBLISH
UID:86f18a3e-a08d-4132-ab5b-1cb5c8705221
X-WR-CALDESC:Open to any skill level.
X-WR-RELCALID:37fd310f499a85baa7a5e7842956f852
X-WR-TIMEZONE:America/New_York
BEGIN:VTIMEZONE
TZID:America/New_York
BEGIN:STANDARD
TZNAME:EST
DTSTART:20221106T020000
TZOFFSETFROM:-0400
TZOFFSETTO:-0500
RDATE:20231105T020000
END:STANDARD
BEGIN:DAYLIGHT
TZNAME:EDT
DTSTART:20230312T020000
TZOFFSETFROM:-0500
TZOFFSETTO:-0400
RDATE:20240310T020000
END:DAYLIGHT
END:VTIMEZONE
BEGIN:VEVENT
UID:e4d9e90d-856b-4980-b0cf-481e17bc67e5
DTSTAMP:20260426T023440Z
DESCRIPTION:Open to any skill level.
DTSTART;TZID=America/New_York:20230426T130000
DTEND;TZID=America/New_York:20230426T150000
LOCATION:
SUMMARY:IN PERSON Mahjongg
END:VEVENT
END:VCALENDAR
