BEGIN:VCALENDAR
VERSION:2.0
PRODID:-//rssny.org//NONSGML kigkonsult.se iCalcreator 2.30.10//
CALSCALE:GREGORIAN
METHOD:PUBLISH
UID:be4f8eee-7aba-46e7-bfdb-2bf6b7101046
X-WR-CALDESC:
X-WR-RELCALID:fa5cbb47ed261c9d79a625356afb662c
X-WR-TIMEZONE:America/New_York
BEGIN:VTIMEZONE
TZID:America/New_York
BEGIN:STANDARD
TZNAME:EST
DTSTART:20221106T020000
TZOFFSETFROM:-0400
TZOFFSETTO:-0500
RDATE:20231105T020000
END:STANDARD
BEGIN:DAYLIGHT
TZNAME:EDT
DTSTART:20230312T020000
TZOFFSETFROM:-0500
TZOFFSETTO:-0400
RDATE:20240310T020000
END:DAYLIGHT
END:VTIMEZONE
BEGIN:VEVENT
UID:d3bf3f2b-353f-400e-94b1-deb8a7a2ca16
DTSTAMP:20260426T023307Z
DESCRIPTION:
DTSTART;TZID=America/New_York:20230426T120000
DTEND;TZID=America/New_York:20230426T130000
LOCATION:
SUMMARY:Lunch (In Center)
END:VEVENT
END:VCALENDAR
